BEGIN:VCALENDAR
VERSION:2.0
PRODID:-//California Dairy Research Foundation - ECPv4.5.2//NONSGML v1.0//EN
CALSCALE:GREGORIAN
METHOD:PUBLISH
X-WR-CALNAME:California Dairy Research Foundation
X-ORIGINAL-URL:http://cdrf.org
X-WR-CALDESC:Events for California Dairy Research Foundation
BEGIN:VEVENT
DTSTART;TZID=America/Los_Angeles:20170917T080000
DTEND;TZID=America/Los_Angeles:20170920T170000
DTSTAMP:20170709T174139
CREATED:20170307T174530Z
LAST-MODIFIED:20170307T174530Z
UID:6149-1505635200-1505926800@cdrf.org
SUMMARY:International Whey Conference 2017
DESCRIPTION:International Whey Conference 2017 Chicago\n\nWhey: Better than ever!\n\nSeptember 17 - 20\, 2017\n\nSheraton Chicago Hotel & Towers\, Chicago\, Ill\n\nIWC 2017 offers the opportunity for the whey industry and their customers to meet with researchers\, scientists and processing equipment and technology providers to learn about the latest developments which will continue to make whey better than ever.\n\n 
URL:http://cdrf.org/event/international-whey-conference-2017/
LOCATION:Chicago\, IL\, United States
END:VEVENT
BEGIN:VEVENT
DTSTART;VALUE=DATE:20170919
DTEND;VALUE=DATE:20170922
DTSTAMP:20170709T174139
CREATED:20170110T210504Z
LAST-MODIFIED:20170110T210504Z
UID:6034-1505779200-1506124799@cdrf.org
SUMMARY:Integrated Solutions to Fiber Challenges
DESCRIPTION:\n\nIntegrated Solutions to Fiber Challenges\n\n\n\n33rd ADSA Discover Conference℠ on Food Animal Agriculture\n\n\n\n\n\n\n\n\nConference Objective\n\n\nThe Integrated Solutions to Fiber Challenges conference will integrate plant requirements\, rumen microbiology\, and animal requirements through presentations\, discussion groups\, and panel presentations. Members of the dairy science community who are interested in the impact of nutrition\, physiology\, and/or management of fiber on animal performance should plan to attend this conference.\n\n\n\n\n\n\n\nWho Should Attend?\n\n\nResearchers\, extension specialists\, and consultants from academia\, government agencies\, and allied industries encompassing feed and seed companies are invited\, as well as\, analytical laboratories. Graduate students are also encouraged to attend.\n\n\n\n
URL:http://cdrf.org/event/integrated-solutions-fiber-challenges/
LOCATION:Chicago\, IL\, United States
END:VEVENT
END:VCALENDAR